BEGIN:VCALENDAR
VERSION:2.0
PRODID:-//Gülay Savaş - ECPv6.15.20//NONSGML v1.0//EN
CALSCALE:GREGORIAN
METHOD:PUBLISH
X-WR-CALNAME:Gülay Savaş
X-ORIGINAL-URL:https://www.gulaysavas.com.tr
X-WR-CALDESC:Gülay Savaş için etkinlikler
REFRESH-INTERVAL;VALUE=DURATION:PT1H
X-Robots-Tag:noindex
X-PUBLISHED-TTL:PT1H
BEGIN:VTIMEZONE
TZID:Europe/Istanbul
BEGIN:STANDARD
TZOFFSETFROM:+0300
TZOFFSETTO:+0300
TZNAME:+03
DTSTART:20230101T000000
END:STANDARD
END:VTIMEZONE
BEGIN:VEVENT
DTSTART;VALUE=DATE:20250730
DTEND;VALUE=DATE:20250731
DTSTAMP:20260425T175044
CREATED:20250731T091653Z
LAST-MODIFIED:20250731T091713Z
UID:45981-1753833600-1753919999@www.gulaysavas.com.tr
SUMMARY:Maritaş Şirketler Grubu | Liderlik ve Dönüşüm Eğitimi
DESCRIPTION:Maritaş Şirketler Grubu ile gerçekleştirdiğimiz bu eğitimde\, katılımcılarla birlikte liderlik ve yöneticilik kavramlarını yeniden ele aldık. Büyük resme bakarak temel tanımları paylaştık\, Türkiye’nin mevcut durumunu raporlarla değerlendirdik. \nStratejik düşünmenin adımlarını ve dijital çağda etkili lider olmanın yollarını detaylı olarak konuştuk. Planlamadan uygulamaya\, liderlikte kişilik özelliklerinden yöneticilikle farklara kadar pek çok başlığı birlikte değerlendirdik.
URL:https://www.gulaysavas.com.tr/etkinlik/maritas-sirketler-grubu-liderlik-ve-donusum-egitimi/
CATEGORIES:Geçmiş Etkinlikler
ATTACH;FMTTYPE=image/webp:https://www.gulaysavas.com.tr/wp-content/uploads/2025/07/Maritas-Sirketler-Grubu-_-Liderlik-ve-Donusum-Egitimi.webp
END:VEVENT
BEGIN:VEVENT
DTSTART;VALUE=DATE:20250420
DTEND;VALUE=DATE:20250421
DTSTAMP:20260425T175044
CREATED:20250322T145849Z
LAST-MODIFIED:20250610T003918Z
UID:44287-1745107200-1745193599@www.gulaysavas.com.tr
SUMMARY:Speaker Agency
DESCRIPTION:Nasıl Hackleniyoruz?\nTümden gelim yaklaşımıyla konumuza\, teknolojik devrimin kalbi Silikon Vadisi’nden başlayalım. \nÜzerinden Okumaya devam edin.\n \nGörüntüle
URL:https://www.gulaysavas.com.tr/etkinlik/speaker-agency/
CATEGORIES:Gelecek Etkinlikler
END:VEVENT
BEGIN:VEVENT
DTSTART;VALUE=DATE:20241219
DTEND;VALUE=DATE:20250323
DTSTAMP:20260425T175044
CREATED:20250305T060941Z
LAST-MODIFIED:20250620T035934Z
UID:44004-1734566400-1742687999@www.gulaysavas.com.tr
SUMMARY:Azerbeycan Kariyer Gelişim Forumu
DESCRIPTION:Yakında Azerbaycan’da gerçekleşecek Kariyer Gelişim Forumu’nda ben de konuşmacı olarak yer alacağım. Dijital dönüşüm\, liderlik ve kariyer planlaması üzerine keyifli bir sohbet bizi bekliyor. Orada görüşmek üzere!
URL:https://www.gulaysavas.com.tr/etkinlik/azerbeycan-kariyer-gelisim-forumu/
LOCATION:Azerbeycan – Bakü\, Bakü\, Azerbaijan
CATEGORIES:Geçmiş Etkinlikler
ATTACH;FMTTYPE=image/png:https://www.gulaysavas.com.tr/wp-content/uploads/2025/03/Adsiz-tasarim5678.png
END:VEVENT
END:VCALENDAR